BEGIN:VCALENDAR
VERSION:2.0
PRODID:-//eventon.com NONSGML v1.0//EN
CALSCALE:GREGORIAN
METHOD:PUBLISH
BEGIN:VEVENT
UID:69e7471ec4ad2
DTSTAMP:20260421T094502Z
DTSTART:20210728T083000Z
DTEND:20210728T103000Z
LOCATION:
SUMMARY:Freundschaftsbänder filzen - Sommerferien-Programm
DESCRIPTION:Aus schöner bunter Schafswolle und mit viel Wasser und Seife s
 tellen wir Freundschaftsarmbänder her. Du kannst so viele Armbänder filze
 n\,  wie du möchtest und sie dann an deine Freunde verschenken und/oder na
 türlich auch selbst behalten. Termin: Mittwoch\,  28. Juli Uhrzeit: 10.30 
 – 12.30 Uhr Treffpunkt: Im „SieNa“ Teilnahmegebühr: Kostenfrei\,  ü
 ber[..]\nhttps://1902stiftung.de/events/freundschaftsbaender-filzen-sommerf
 erien-programm/
URL:https://1902stiftung.de/events/freundschaftsbaender-filzen-sommerferien-programm/
END:VEVENT
END:VCALENDAR