BEGIN:VCALENDAR
VERSION:2.0
PRODID:-//eventon.com NONSGML v1.0//EN
CALSCALE:GREGORIAN
METHOD:PUBLISH
BEGIN:VEVENT
UID:69e8b56b96673
DTSTAMP:20260422T114755Z
DTSTART:20210923T100000Z
DTEND:20210923T150000Z
LOCATION:
SUMMARY:Ausflug zur Bunthäuser Spitze (Nachholtermin)
DESCRIPTION:Copyright: Wikimedia Commons Mit der U-Bahn fahren wir nach Wil
 helmsburg und steigen dort in den Bus um\,  der uns an die Biegung des Moor
 werder Hauptdeichs bringt.Von dort machen wir einen kleinen\,  rund 15minü
 tigen Spaziergang zur Bunthäuser Spitze am Elbstromkilometer 609\,  dort\,
   wo sich die Elbe in Norder- und Süderelbe aufteilt[..]\nhttps://1902stif
 tung.de/events/ausflug-zur-bunthaeuser-spitze-nachholtermin/
URL:https://1902stiftung.de/events/ausflug-zur-bunthaeuser-spitze-nachholtermin/
END:VEVENT
END:VCALENDAR