BEGIN:VCALENDAR
VERSION:2.0
PRODID:-//eventon.com NONSGML v1.0//EN
CALSCALE:GREGORIAN
METHOD:PUBLISH
BEGIN:VEVENT
UID:69e7b71f723c2
DTSTAMP:20260421T174255Z
DTSTART:20211110T170000Z
DTEND:20211110T183000Z
LOCATION:
SUMMARY:Bewerbungstraining - für Jugendliche
DESCRIPTION:Wir bieten euch ein kostenloses Bewerbungstraining an. Dabei sc
 hreiben wir zusammen deine Bewerbung oder gehen deine aktuelle Bewerbung du
 rch und prüfen diese auf Rechtschreibung und ob es noch Optimierungspotenz
 iale gibt. Zusätzlich üben wir Bewerbungsgespräche und bereiten dich opt
 imal auf deinen Start ins Arbeitsleben vor. Sollten dir noch Ideen fehlen\,
   was[..]\nhttps://1902stiftung.de/events/bewerbungstraining/
URL:https://1902stiftung.de/events/bewerbungstraining/
END:VEVENT
END:VCALENDAR