BEGIN:VCALENDAR
VERSION:2.0
PRODID:-//eventon.com NONSGML v1.0//EN
CALSCALE:GREGORIAN
METHOD:PUBLISH
BEGIN:VEVENT
UID:69e85f1f3fab3
DTSTAMP:20260422T053943Z
DTSTART:20220520T090000Z
DTEND:20220520T120000Z
LOCATION:
SUMMARY:Ausflug zum (Kinder-) Bauernhof Kirchdorf e.V.
DESCRIPTION:Das Leben in einer Großstadt ermöglicht nur wenige Einblicke 
 in den Lebensraum von Bauernhof- und Nutztieren. Im Kinderbauernhof Kirchdo
 rf ist genau dies auch in Hamburg möglich &#8211; und nicht nur für Kinde
 r! Zum Leitbild des Trägervereins gehören Wissensvermittlung und gelebte 
 Umweltpädagogik\,  insbesondere zum Lebensraum von Tieren. Die Tiere auf d
 em[..]\nhttps://1902stiftung.de/events/ausflug-zum-kinder-bauernhof-kirchdo
 rf-e-v/
URL:https://1902stiftung.de/events/ausflug-zum-kinder-bauernhof-kirchdorf-e-v/
END:VEVENT
END:VCALENDAR