BEGIN:VCALENDAR
VERSION:2.0
PRODID:-//eventon.com NONSGML v1.0//EN
CALSCALE:GREGORIAN
METHOD:PUBLISH
BEGIN:VEVENT
UID:69e89ac45e8f7
DTSTAMP:20260422T095412Z
DTSTART:20220520T140000Z
DTEND:20220520T163000Z
LOCATION:
SUMMARY:Tag der Nachbarschaft - ein Tag für (mehr) Gemeinschaft im Viertel
DESCRIPTION:Angesichts der Corona-Krise war in den letzten zwei Jahren alle
 s anders und gute Nachbarschaft war und ist besonders wichtig. Deshalb möc
 hten wir mit Ihnen den Tag der Nachbarschaft\,  der in vielen Ländern Euro
 pas jedes Jahr Ende Mai gefeiert wird\,  gemeinsam feiern. Lassen Sie uns d
 as Zusammengehörigkeitsgefühl im Viertel erleben und[..]\nhttps://1902sti
 ftung.de/events/tag-der-nachbarschaft-ein-tag-fuer-mehr-gemeinschaft-im-vie
 rtel/
URL:https://1902stiftung.de/events/tag-der-nachbarschaft-ein-tag-fuer-mehr-gemeinschaft-im-viertel/
END:VEVENT
END:VCALENDAR