BEGIN:VCALENDAR
VERSION:2.0
PRODID:-//eventon.com NONSGML v1.0//EN
CALSCALE:GREGORIAN
METHOD:PUBLISH
BEGIN:VEVENT
UID:69e89b8a8de4e
DTSTAMP:20260422T095730Z
DTSTART:20220815T073000Z
DTEND:20220815T093000Z
LOCATION:
SUMMARY:Frische Brötchen und Smoothies zum Frühstück – ab 6 Jahre
DESCRIPTION:Ihr kommt\,  ohne zu Hause gefrühstückt zu haben\,  in den Si
 eNa\,  denn das Frühstück bereiten wir uns gemeinsam zu. Wir backen frisc
 he Brötchen und mixen uns leckere Smoothies. Zum Schluss verzehren wir all
 es gemeinsam. Wenn etwas übrig bleibt\,  könnt ihr es natürlich mit nach
  Hause nehmen. Termin: Montag\,  15. AugustUhrzeit:[..]\nhttps://1902stiftu
 ng.de/events/frische-broetchen-und-smoothies-zum-fruehstueck-ab-6-jahre/
URL:https://1902stiftung.de/events/frische-broetchen-und-smoothies-zum-fruehstueck-ab-6-jahre/
END:VEVENT
END:VCALENDAR