BEGIN:VCALENDAR
VERSION:2.0
PRODID:-//eventon.com NONSGML v1.0//EN
CALSCALE:GREGORIAN
METHOD:PUBLISH
BEGIN:VEVENT
UID:69e6b60dae697
DTSTAMP:20260420T232605Z
DTSTART:20221107T153000Z
DTEND:20221107T163000Z
LOCATION:
SUMMARY:Smartphone- und Tablet-Sprechstunde im SieNa
DESCRIPTION:Digitale Teilhabe für Menschen 55+ Sie haben ein Smartphone od
 er ein Tablet\,  aber durch die Nutzung ergeben sich immer nur wieder Frage
 n\,  die meist unbeantwortet bleiben?Das muss nicht sein! Denn während der
  kostenfreien Smartphone-Sprechstunde im SieNa kann Ihnen geholfen werden! 
 Dort wird Ihnen beispielsweise auch gezeigt\,  wie Sie E-Mails schreiben[..
 ]\nhttps://1902stiftung.de/events/smartphone-und-tablet-sprechstunde-im-sie
 na-3/
URL:https://1902stiftung.de/events/smartphone-und-tablet-sprechstunde-im-siena-3/
END:VEVENT
END:VCALENDAR