BEGIN:VCALENDAR
VERSION:2.0
PRODID:-//eventon.com NONSGML v1.0//EN
CALSCALE:GREGORIAN
METHOD:PUBLISH
BEGIN:VEVENT
UID:69e8b0182c358
DTSTAMP:20260422T112512Z
DTSTART:20230316T140000Z
DTEND:20230316T160000Z
LOCATION:
SUMMARY:<strong>Malkurs im SieNa</strong>
DESCRIPTION:Es ist wieder so weit! Der Malkurs trifft sich an sechs Termine
 n im SieNa und lässt unter fachkundiger Anleitung von Künstlerin Ruth Lin
 gelbach einzigartige Kunstwerke entstehen. Die Teilnehmenden bringen ihr ei
 genes Material mit (Leinwand/Papier\,  Stifte\,  Farben\,  Pinsel etc.). So
  kann jede und jeder in der Technik\,  die ihr oder ihm[..]\nhttps://1902st
 iftung.de/events/malkurs-im-siena-3/
URL:https://1902stiftung.de/events/malkurs-im-siena-3/
END:VEVENT
END:VCALENDAR