BEGIN:VCALENDAR
VERSION:2.0
PRODID:-//eventon.com NONSGML v1.0//EN
CALSCALE:GREGORIAN
METHOD:PUBLISH
BEGIN:VEVENT
UID:69e8d60a9602e
DTSTAMP:20260422T140706Z
DTSTART:20230315T093000Z
DTEND:20230315T103000Z
LOCATION:
SUMMARY:März-Ferien-Programm für Kinder ab 6 Jahre: <strong>Hammer Park auf vier Pfoten</strong>
DESCRIPTION:Wir entdecken den Hammer Park gemeinsam mit Buddy\,  einem einj
 ährigen Golden Retriever. Er ist kinderlieb und sehr verspielt. Termin: Mi
 ttwoch\,  15. MärzUhrzeit: 10.30 – 11.30 UhrTreffpunkt: SieNaTeilnahmege
 bühr: Kostenfrei Nur mit Anmeldung Copyright: Stiftung 1902\nhttps://1902s
 tiftung.de/events/maerz-ferien-programm-fuer-kinder-ab-6-jahre-hammer-park-
 auf-vier-pfoten/
URL:https://1902stiftung.de/events/maerz-ferien-programm-fuer-kinder-ab-6-jahre-hammer-park-auf-vier-pfoten/
END:VEVENT
END:VCALENDAR