BEGIN:VCALENDAR
VERSION:2.0
PRODID:-//eventon.com NONSGML v1.0//EN
CALSCALE:GREGORIAN
METHOD:PUBLISH
BEGIN:VEVENT
UID:69e9f5cb8ec1a
DTSTAMP:20260423T103451Z
DTSTART:20230821T083000Z
DTEND:20230821T100000Z
LOCATION:
SUMMARY:<strong>Arbeiten mit Wolle - Kinder lernen stricken und häkeln – für Kinder ab 6 Jahre</strong>
DESCRIPTION:In diesem Kurs könnt ihr mit Wolle und Nadeln eigene Werke ent
 stehen lassen. Mit Spass und ganz ohne Druck dürft Ihr kreativ werden und 
 dabei verschiedene Häkel- oder Strickmethoden ausprobieren. Wir wollen mit
  Wolle\,  Baumwolle oder anderen Fasern in verschiedenen Farben hübsche Di
 nge herstellen\,  z.B. kleine Taschen\,  Kuscheltiere\,  Freundschaftsbänd
 er\,  einen[..]\nhttps://1902stiftung.de/events/arbeiten-mit-wolle-kinder-l
 ernen-stricken-und-haekeln-fuer-kinder-ab-6-jahre/
URL:https://1902stiftung.de/events/arbeiten-mit-wolle-kinder-lernen-stricken-und-haekeln-fuer-kinder-ab-6-jahre/
END:VEVENT
END:VCALENDAR