BEGIN:VCALENDAR
VERSION:2.0
PRODID:-//eventon.com NONSGML v1.0//EN
CALSCALE:GREGORIAN
METHOD:PUBLISH
BEGIN:VEVENT
UID:69e7480a87377
DTSTAMP:20260421T094858Z
DTSTART:20230917T130000Z
DTEND:20230917T160000Z
LOCATION:
SUMMARY:Canasta-Treff im SieNa
DESCRIPTION:Copyright: Pixabay Die Canasta Gruppe Hamm veranstaltet ihre Tr
 effen jetzt im SieNa Nachbar­schaftstreff am Sievekingdamm 57 und freut si
 ch über neue Mitspieler und Mitspielerinnen. Vorkenntnisse sind hilfreich\
 ,  aber nicht erforderlich! Termin: Sonntag\,  17. SeptemberUhrzeit: 15.00 
 &#8211; 18.00 UhrTreffpunkt: im SieNaTeilnahmegebühr: kostenfreiAnmeldung 
 nur beim ersten Mal erforderlich\nhttps://1902stiftung.de/events/canasta-tr
 eff-im-siena-15/
URL:https://1902stiftung.de/events/canasta-treff-im-siena-15/
END:VEVENT
END:VCALENDAR