BEGIN:VCALENDAR
VERSION:2.0
PRODID:-//eventon.com NONSGML v1.0//EN
CALSCALE:GREGORIAN
METHOD:PUBLISH
BEGIN:VEVENT
UID:69e9bf690ae0a
DTSTAMP:20260423T064249Z
DTSTART:20230910T130000Z
DTEND:20230910T143000Z
LOCATION:
SUMMARY:"Music rocks!" Chor-Auftritt
DESCRIPTION:Powervoller Chorsound kommt mit dem Music rocks! Chor (einem Mu
 sical-/Popchor)\,  unter der Leitung von Doris Vetter\,  in den SieNa. Beim
  offenen Singen kann sehr gerne mitgesungen werden! Zu diesem Musiknachmitt
 ag ist jeder und jede herzlich eingeladen! Termin: Sonntag\,  10. September
 Uhrzeit: 15.00 – 16.30 UhrTreffpunkt: SieNaTeilnahmegebühr: Kostenfrei N
 ur mit Anmeldung Copyright[..]\nhttps://1902stiftung.de/events/music-rocks-
 chor-auftritt/
URL:https://1902stiftung.de/events/music-rocks-chor-auftritt/
END:VEVENT
END:VCALENDAR