BEGIN:VCALENDAR
VERSION:2.0
PRODID:-//eventon.com NONSGML v1.0//EN
CALSCALE:GREGORIAN
METHOD:PUBLISH
BEGIN:VEVENT
UID:69e795ae2d808
DTSTAMP:20260421T152014Z
DTSTART:20230926T080000Z
DTEND:20230926T100000Z
LOCATION:
SUMMARY:Interkultureller Kennenlern-Brunch
DESCRIPTION:Machen Sie gerne mit! Kurz anmelden und dann einfach vorbei kom
 men. Diese Veranstaltung bieten wir in Kooperation mit der Caritas Hamburg 
 an (ein Angebot der Projekte Perspektive Hamburg und ElbConnection). Termin
 : Dienstag\,  26. SeptemberUhrzeit: 10.00 – 12.00 UhrTreffpunkt: Im SieNa
 Teilnahmegebühr: Kostenfrei Anmeldung unter Tel. 33 38 41 20 oder Tel.[..]
 \nhttps://1902stiftung.de/events/interkultureller-kennenlern-brunch/
URL:https://1902stiftung.de/events/interkultureller-kennenlern-brunch/
END:VEVENT
END:VCALENDAR