BEGIN:VCALENDAR
VERSION:2.0
PRODID:-//eventon.com NONSGML v1.0//EN
CALSCALE:GREGORIAN
METHOD:PUBLISH
BEGIN:VEVENT
UID:69eb4e838f05f
DTSTAMP:20260424T110539Z
DTSTART:20240202T093000Z
DTEND:20240202T110000Z
LOCATION:
SUMMARY:Kerzentropf-Bilder – für Kinder ab 6 Jahre
DESCRIPTION:Wir tropfen bunten Kerzenwachs in Wasser oder auf Papier und st
 ellen damit schöne Fensterbilder her. Termin: Freitag (Schulfrei)\,  2. Fe
 bruarUhrzeit: 10.30 – 12.00 UhrTreffpunkt: SieNaTeilnahmegebühr: Kostenf
 rei; über eine Spende freut sich der SieNaNur mit Anmeldung Copyright Foto
 : SieNa\nhttps://1902stiftung.de/events/kerzentropf-bilder-fuer-kinder-ab-6
 -jahre/
URL:https://1902stiftung.de/events/kerzentropf-bilder-fuer-kinder-ab-6-jahre/
END:VEVENT
END:VCALENDAR