BEGIN:VCALENDAR
VERSION:2.0
PRODID:-//eventon.com NONSGML v1.0//EN
CALSCALE:GREGORIAN
METHOD:PUBLISH
BEGIN:VEVENT
UID:69e7470de1946
DTSTAMP:20260421T094445Z
DTSTART:20241218T160000Z
DTEND:20241218T180000Z
LOCATION:
SUMMARY:Woll-Treff für Jung und Alt im SieNa
DESCRIPTION:Einmal im Monat trifft sich eine Gruppe zum offenen Woll-Treff 
 im SieNa: Egal\,  ob Häkeln\,  Stricken oder Sticken\,  hier kann nach Lus
 t und Laune an den eigenen Projekten gearbeitet werden. Bei Fragen oder Uns
 icherheiten können sich die Teilnehmenden gegenseitig unterstützen und be
 raten. Und junge Einsteiger und Einsteigerinnen können vom reichen[..]\nht
 tps://1902stiftung.de/events/woll-treff-fuer-jung-und-alt-im-siena-20/
URL:https://1902stiftung.de/events/woll-treff-fuer-jung-und-alt-im-siena-20/
END:VEVENT
END:VCALENDAR