BEGIN:VCALENDAR
VERSION:2.0
PRODID:-//eventon.com NONSGML v1.0//EN
CALSCALE:GREGORIAN
METHOD:PUBLISH
BEGIN:VEVENT
UID:69ea8ac176cdd
DTSTAMP:20260423T211025Z
DTSTART:20240516T080000Z
DTEND:20240516T091500Z
LOCATION:
SUMMARY:Gehirnjogging im SieNa (Sommerpause)
DESCRIPTION:ACHTUNG SOMMERPAUSE!!! Haben Sie auch schon mal einen Termin ve
 rgessen\,  den Schlüssel verlegt oder nach dem Namen eines Nachbarn oder e
 iner Nachbarin gesucht? Damit sich das ändert\,  laden wir Sie zum „Fitn
 esstraining für das Gehirn“ in den SieNa ein\,  zu abwechslungsreichen S
 pielen\,  Rätseln und vielen Übungen in fröhlicher Runde. Probieren[..]\
 nhttps://1902stiftung.de/events/gehirnjogging-im-siena-28/
URL:https://1902stiftung.de/events/gehirnjogging-im-siena-28/
END:VEVENT
END:VCALENDAR