BEGIN:VCALENDAR
VERSION:2.0
PRODID:-//eventon.com NONSGML v1.0//EN
CALSCALE:GREGORIAN
METHOD:PUBLISH
BEGIN:VEVENT
UID:69e9f6b4f3cec
DTSTAMP:20260423T103844Z
DTSTART:20240616T103000Z
DTEND:20240616T140000Z
LOCATION:
SUMMARY:Regular Meet Up with English speaking parents and their babies
DESCRIPTION:Do you want to speak English and meet with internationally mind
 ed English speaking families? Then join our Meet Up with your baby! Termine
 : Sonntag\,  16. Juni/ 21. Juli/ 18. AugustUhrzeit: 10.30 – 14.00 UhrTref
 fpunkt: SieNaTeilnahmegebühr: Kostenfrei; über eine Spende freut sich der
  SieNaNur mit Anmeldung\nhttps://1902stiftung.de/events/regular-meet-up-wit
 h-english-speaking-parents-and-their-babies/
URL:https://1902stiftung.de/events/regular-meet-up-with-english-speaking-parents-and-their-babies/
END:VEVENT
END:VCALENDAR