BEGIN:VCALENDAR
VERSION:2.0
PRODID:-//eventon.com NONSGML v1.0//EN
CALSCALE:GREGORIAN
METHOD:PUBLISH
BEGIN:VEVENT
UID:69e89a0f21276
DTSTAMP:20260422T095111Z
DTSTART:20241203T110000Z
DTEND:20241203T140000Z
LOCATION:
SUMMARY:Gemeinsam kochen und genießen
DESCRIPTION:Ein neues Angebot für alleinlebende Seniorinnen und Senioren U
 nter dem Motto „Genussvoll durch alle Jahreszeiten – schnelle und einfa
 che Rezepte für eine Person“ startet im Winter mit Unterstützung der Ve
 rnetzungsstelle Seniorenernährung Hamburg eine Kochgruppe für Seniorinnen
  und Senioren im SieNa Nachbarschaftstreff. Dabei spielt es keine Rolle\,  
 ob Sie bereits viel[..]\nhttps://1902stiftung.de/events/gemeinsam-kochen-un
 d-geniessen-2/
URL:https://1902stiftung.de/events/gemeinsam-kochen-und-geniessen-2/
END:VEVENT
END:VCALENDAR