BEGIN:VCALENDAR
VERSION:2.0
PRODID:-//eventon.com NONSGML v1.0//EN
CALSCALE:GREGORIAN
METHOD:PUBLISH
BEGIN:VEVENT
UID:69e85ed0095a9
DTSTAMP:20260422T053824Z
DTSTART:20241020T130000Z
DTEND:20241020T160000Z
LOCATION:
SUMMARY:Canasta-Treff im SieNa
DESCRIPTION:Copyright: Pixabay Einmal im Monat veranstaltet die Canasta Gru
 ppe Hamm ihre Treffen im SieNa Nachbar­schaftstreff am Sievekingdamm 57 un
 d freut sich über neue Mitspieler und Mitspielerinnen. Vorkenntnisse sind 
 hilfreich\,  aber nicht erforderlich! Termin: Sonntag\,  20. OktoberUhrzeit
 : 15.00 &#8211; 18.00 UhrTreffpunkt: im SieNaTeilnahmegebühr: kostenfreiAn
 meldung nur beim ersten Mal erforderlich\nhttps://1902stiftung.de/events/ca
 nasta-treff-im-siena-27/
URL:https://1902stiftung.de/events/canasta-treff-im-siena-27/
END:VEVENT
END:VCALENDAR