BEGIN:VCALENDAR
VERSION:2.0
PRODID:-//eventon.com NONSGML v1.0//EN
CALSCALE:GREGORIAN
METHOD:PUBLISH
BEGIN:VEVENT
UID:69e94aeec7d9c
DTSTAMP:20260422T222550Z
DTSTART:20250706T133000Z
DTEND:20250706T180000Z
LOCATION:
SUMMARY:Sonntagsausflug nach Planten un Blomen
DESCRIPTION:Kaum ein anderer Hamburger Park ist so abwechslungsreich und ei
 gnet sich so hervorragend für einen sommerlichen Sonntagsspaziergang wie P
 lanten un Blomen. Wir treffen uns am Dammtorbahnhof und gehen als erstes zu
 m Japanischen Garten von Planten un Blomen\,  wo wir um 14 Uhr an einem kos
 tenfreien\,  geführten Rundgang teilnehmen. Dort lernen[..]\nhttps://1902s
 tiftung.de/events/sonntagsausflug-nach-planten-un-blomen/
URL:https://1902stiftung.de/events/sonntagsausflug-nach-planten-un-blomen/
END:VEVENT
END:VCALENDAR