BEGIN:VCALENDAR
VERSION:2.0
PRODID:-//eventon.com NONSGML v1.0//EN
CALSCALE:GREGORIAN
METHOD:PUBLISH
BEGIN:VEVENT
UID:69e9f6e5643be
DTSTAMP:20260423T103933Z
DTSTART:20250911T180000Z
DTEND:20250911T200000Z
LOCATION:
SUMMARY:Wenn mein Körper nur so wollte\,  wie er sollte - raus aus der Diätfalle\,  rein in die Leiblichkeit
DESCRIPTION:Wer sich im eigenen Körper wohlfühlt\,  strahlt es sichtbar f
 ür andere aus. Fühlen wir uns unwohl\,  bindet die Unzufriedenheit eine M
 enge Energie\,  die uns für die Lebensführung fehlt. In einer wertschätz
 enden Gruppe mit gleichgesinnten Frauen wollen wir wieder zu mehr Gleichgew
 icht und Zufriedenheit finden. Der Körper hat seine eigene Logik\, [..]\nh
 ttps://1902stiftung.de/events/wenn-mein-koerper-nur-so-wollte-wie-er-sollte
 -raus-aus-der-diaetfalle-rein-in-die-leiblichkeit-9/
URL:https://1902stiftung.de/events/wenn-mein-koerper-nur-so-wollte-wie-er-sollte-raus-aus-der-diaetfalle-rein-in-die-leiblichkeit-9/
END:VEVENT
END:VCALENDAR