BEGIN:VCALENDAR
VERSION:2.0
PRODID:-//eventon.com NONSGML v1.0//EN
CALSCALE:GREGORIAN
METHOD:PUBLISH
BEGIN:VEVENT
UID:69ebbdfb96580
DTSTAMP:20260424T190115Z
DTSTART:20201008T110000Z
DTEND:20201008T200000Z
LOCATION:
SUMMARY:Besuch des Loki-Schmidt-Gartens in Klein Flottbek
DESCRIPTION:Mit der U- und S-Bahn geht es nach Klein Flottbek. Gleich gegen
 über der Bahnstation befindet sich der idyllische und ruhige Botanische Ga
 rten (seit 2012 „Loki-Schmidt-Garten”). Der Rundgang ist auch mit Gehwa
 gen möglich. Es gibt überall Bänke zum Essen und Verweilen und ein klein
 es Selbstbedienungscafé. Wer im Anschluss noch Lust hat\, [..]\nhttps://19
 02stiftung.de/events/besuch-des-loki-schmidt-gartens-in-klein-flottbek/
URL:https://1902stiftung.de/events/besuch-des-loki-schmidt-gartens-in-klein-flottbek/
END:VEVENT
END:VCALENDAR