BEGIN:VCALENDAR
VERSION:2.0
PRODID:-//eventon.com NONSGML v1.0//EN
CALSCALE:GREGORIAN
METHOD:PUBLISH
BEGIN:VEVENT
UID:69e89ccdef000
DTSTAMP:20260422T100253Z
DTSTART:20201015T110000Z
DTEND:20201015T133000Z
LOCATION:
SUMMARY:Wir machen Slime – ab 6 Jahre
DESCRIPTION:Aus verschiedenen Zutaten stellen wir Slime her! Du kannst ents
 cheiden\,  ob dein Slime farbig\,  glitzernd\,  klar oder schaumig werden s
 oll. Und dann heißt es kneten\,  kneten\,  kneten… Termin: Donnerstag\, 
  15. Oktober\,  11.00 – 13.00 Uhr Treffpunkt: Im „SieNa“ Dieses Angeb
 ot ist kostenlos. Über eine kleine Spende freuen wir uns. Nur[..]\nhttps:/
 /1902stiftung.de/events/wir-machen-slime-ab-6-jahre/
URL:https://1902stiftung.de/events/wir-machen-slime-ab-6-jahre/
END:VEVENT
END:VCALENDAR