BEGIN:VCALENDAR
VERSION:2.0
PRODID:-//eventon.com NONSGML v1.0//EN
CALSCALE:GREGORIAN
METHOD:PUBLISH
BEGIN:VEVENT
UID:69e539ca16eae
DTSTAMP:20260419T202338Z
DTSTART:20211020T220000Z
DTEND:20211021T010000Z
LOCATION:
SUMMARY:Gemeinsam Kochen im SieNa
DESCRIPTION:Wir lassen eine alte Tradition aufleben und kochen gemeinsam ei
 n leckeres Mittags-Menü im SieNa. An jedem 3. Mittwoch im Monat wird ab 11
  Uhr im SieNa fleißig geschnippelt\,  gerührt\,  geknetet und geschlemmt.
  Die Kosten werden anteilig unter den Teilnehmenden aufgeteilt.   Copyrigh
 t Foto: Pixabay Termin: jeden drittten Mittwoch im MonatUhrzeit:[..]\nhttps
 ://1902stiftung.de/events/gemeinsam-kochen-im-siena/var/ri-2.l-L1
URL:https://1902stiftung.de/events/gemeinsam-kochen-im-siena/var/ri-2.l-L1
END:VEVENT
END:VCALENDAR