BEGIN:VCALENDAR
VERSION:2.0
PRODID:-//eventon.com NONSGML v1.0//EN
CALSCALE:GREGORIAN
METHOD:PUBLISH
BEGIN:VEVENT
UID:69e4cfb6553f4
DTSTAMP:20260419T125102Z
DTSTART:20201113T173000Z
DTEND:20201113T193000Z
LOCATION:
SUMMARY:Laternenumzug - fällt dieses Jahr leider aus
DESCRIPTION:Leider kann der Laternenumzug von 1902 und 1904 dieses Jahr nic
 ht statt finden. Die Hamburger Verordnung zur Eindämmung der Ausbreitung d
 es Coronavirus SARS-CoV-2 lässt dies leider nicht zu. Wir bitten um Ihre V
 erständnis. &nbsp;\nhttps://1902stiftung.de/events/laternenumzug-findet-ni
 cht-statt/
URL:https://1902stiftung.de/events/laternenumzug-findet-nicht-statt/
END:VEVENT
END:VCALENDAR