BEGIN:VCALENDAR
VERSION:2.0
PRODID:-//eventon.com NONSGML v1.0//EN
CALSCALE:GREGORIAN
METHOD:PUBLISH
BEGIN:VEVENT
UID:69e747d091ee9
DTSTAMP:20260421T094800Z
DTSTART:20201212T030000Z
DTEND:20201212T050000Z
LOCATION:
SUMMARY:Bastel ein Häkelband für Deine Corona-Maske - kann leider nicht statt finden
DESCRIPTION:Für Kinder ab 6 Jahre oder kleinere Kinder in Begleitung An di
 e Tatsache\,  dass wir jetzt oft eine Maske tragen müssen\,  haben wir uns
  ja mittlerweile gewöhnt &#8211; aber dass man sie immer wieder verliert o
 der vergisst\,  ist wirklich ärgerlich. Da können wir helfen! Wir häkeln
  mit euch zusammen eine[..]\nhttps://1902stiftung.de/events/bastel-ein-haek
 elband-fuer-deine-corona-maske/
URL:https://1902stiftung.de/events/bastel-ein-haekelband-fuer-deine-corona-maske/
END:VEVENT
END:VCALENDAR