BEGIN:VCALENDAR
VERSION:2.0
PRODID:-//eventon.com NONSGML v1.0//EN
CALSCALE:GREGORIAN
METHOD:PUBLISH
BEGIN:VEVENT
UID:69e4c3eea0e70
DTSTAMP:20260419T120046Z
DTSTART:20210112T220000Z
DTEND:20210112T230000Z
LOCATION:
SUMMARY:Sport und Spaß im Knackigen Alter
DESCRIPTION:Einmal den ganzen Körper durchbewegen und etwas fürs Gedächt
 nis tun! Bringen Sie etwas zu Trinken sowie ein kleines Handtuch mit\,  und
  tragen Sie bequeme Kleidung und Schuhe. Dieser Kurs findet momentan im VLF
 \,  Sievekingsallee 69\,  statt. Termin: immer dienstags Uhrzeit: 11.00 –
  12.00 Uhr Treffpunkt: VLF\,  Sievekingsallee 69a Teilnahmegebühr: 8\, 00[
 ..]\nhttps://1902stiftung.de/events/sport-und-spass-im-knackigen-alter-paus
 iert-momentan/var/ri-1.l-L1
URL:https://1902stiftung.de/events/sport-und-spass-im-knackigen-alter-pausiert-momentan/var/ri-1.l-L1
END:VEVENT
END:VCALENDAR