BEGIN:VCALENDAR
VERSION:2.0
PRODID:-//eventon.com NONSGML v1.0//EN
CALSCALE:GREGORIAN
METHOD:PUBLISH
BEGIN:VEVENT
UID:69e862fc269a9
DTSTAMP:20260422T055612Z
DTSTART:20210310T093000Z
DTEND:20210310T113000Z
LOCATION:
SUMMARY:Fingerstricken\,  Fadenspiel\,  Gummitwist und Co
DESCRIPTION:Zum Fingerstricken benötigst du nichts weiter als deine Finger
 ! Wolle bekommst du von uns und los geht’s. Finger strickengeht ganz einf
 ach und macht richtig Spaß! Am Ende kannst du deine „Wollschlange“ mit
  nach Hause nehmen. Falls du dochirgendwann genug vom Fingerstricken hast\,
   haben wir noch weitere gemeinsame Spiele im Angebot![..]\nhttps://1902sti
 ftung.de/events/fingerstricken-fadenspiel-gummitwist-und-co/
URL:https://1902stiftung.de/events/fingerstricken-fadenspiel-gummitwist-und-co/
END:VEVENT
END:VCALENDAR