BEGIN:VCALENDAR
VERSION:2.0
PRODID:-//eventon.com NONSGML v1.0//EN
CALSCALE:GREGORIAN
METHOD:PUBLISH
BEGIN:VEVENT
UID:69e89a62cb7bc
DTSTAMP:20260422T095234Z
DTSTART:20210403T140000Z
DTEND:20210403T160000Z
LOCATION:
SUMMARY:Osterbacken für Kinder - kann leider nicht stattfinden
DESCRIPTION:Wir backen gemeinsam leckeres Ostergebäck. Wer später noch zu
 m Osterfeuer geht\,  hat somit gleich Proviant dabei. Termin: Samstag\,  3.
  AprilUhrzeit: 16.00 – 18.00 UhrTreffpunkt: Im „SieNa“Teilnahmegebüh
 r: Kostenfrei\,  über eine kleine Spende würden wir uns freuenNur mit Anm
 eldung\nhttps://1902stiftung.de/events/osterbacken-fuer-kinder/
URL:https://1902stiftung.de/events/osterbacken-fuer-kinder/
END:VEVENT
END:VCALENDAR