BEGIN:VCALENDAR
VERSION:2.0
PRODID:-//eventon.com NONSGML v1.0//EN
CALSCALE:GREGORIAN
METHOD:PUBLISH
BEGIN:VEVENT
UID:69e7471eda14c
DTSTAMP:20260421T094502Z
DTSTART:20210314T120000Z
DTEND:20210314T150000Z
LOCATION:
SUMMARY:Klettern im Kletterpark „Schnurstracks“\,  Hamburg-Aumühle
DESCRIPTION:Im Kletterpark „Schnurstracks“ gibt es mehrere Parcours\,  
 die du erklimmen kannst. Für alle ab 6 Jahre gibt es einen Gewöhnungsparc
 ours\,  den du nach ein bis zwei Durchgängen auch ohne Begleitung klettern
  kannst. Ab 8 Jahre kannst du eine Stufe höher klettern. Dies natürlich n
 ur in Begleitung eines Team-Mitglieds von Lebensband[..]\nhttps://1902stift
 ung.de/events/klettern-im-kletterpark-schnurstracks-hamburg-aumuehle/
URL:https://1902stiftung.de/events/klettern-im-kletterpark-schnurstracks-hamburg-aumuehle/
END:VEVENT
END:VCALENDAR