BEGIN:VCALENDAR
VERSION:2.0
PRODID:-//eventon.com NONSGML v1.0//EN
CALSCALE:GREGORIAN
METHOD:PUBLISH
BEGIN:VEVENT
UID:69e99410cff22
DTSTAMP:20260423T033752Z
DTSTART:20210423T020000Z
DTEND:20210423T030000Z
LOCATION:
SUMMARY:Info-Veranstaltung zum Online-Banking (Nachholtermin) - kann leider nicht stattfinden
DESCRIPTION:Der ursprünglich für den Januar geplante Termin konnte corona
 bedingt leider nicht stattfinden.Um Sie dennoch über die verschiedenen Mö
 glichkeiten des Onlinebankings zu informieren\,  kommt Frau Arendt von der 
 Hamburger Volksbank nun im April für Sie in den „SieNa“ und erklärt I
 hnen\,  wie Sie Ihre Bankgeschäfte sicher\,  bequem und kontaktlos von zu[
 ..]\nhttps://1902stiftung.de/events/info-veranstaltung-zum-online-banking-n
 achholtermin/
URL:https://1902stiftung.de/events/info-veranstaltung-zum-online-banking-nachholtermin/
END:VEVENT
END:VCALENDAR