BEGIN:VCALENDAR
VERSION:2.0
PRODID:-//eventon.com NONSGML v1.0//EN
CALSCALE:GREGORIAN
METHOD:PUBLISH
BEGIN:VEVENT
UID:69e8b32787106
DTSTAMP:20260422T113815Z
DTSTART:20210425T090000Z
DTEND:20210425T110000Z
LOCATION:
SUMMARY:Zeichnen im Park - kann leider nicht stattfinden
DESCRIPTION:Copyright: Pixabay Die Pleinair-Maler waren gegen Ende des 19. 
 Jahrhunderts Pioniere auf diesem Gebiet der Malerei und konnten nicht ahnen
 \,  dass auch rund 150 Jahre später die Vorteile der Freilichtmalerei auf 
 der Hand liegen. Denn nicht nur Licht und Stimmung sind immer wieder neu\, 
  spannend und einfangenswert &#8211; auch die[..]\nhttps://1902stiftung.de/
 events/zeichnen-im-park-2/
URL:https://1902stiftung.de/events/zeichnen-im-park-2/
END:VEVENT
END:VCALENDAR