BEGIN:VCALENDAR
VERSION:2.0
PRODID:-//eventon.com NONSGML v1.0//EN
CALSCALE:GREGORIAN
METHOD:PUBLISH
BEGIN:VEVENT
UID:69e6fe5852481
DTSTAMP:20260421T043432Z
DTSTART:20210518T173000Z
DTEND:20210518T183000Z
LOCATION:
SUMMARY:Cello- und Flötenkonzert im "SieNa" - kann leider nicht stattfinden
DESCRIPTION:Copyright: Adriano da Silva Trarbach Das brasilianische Ausnahm
 e- und Multitalent Adriano da Silva Trarbach lässt im „SieNa“ zwei sei
 ner bevorzugten Instrumente erklingen. Schon als junges Kind in Brasilien e
 rhielt Adriano da Silva Trarbach aufgrund seines herausragenden Talents sei
 n erstes Stipendium und bekam durch die Teilnahme an einem Wettbewerb des G
 oethe[..]\nhttps://1902stiftung.de/events/cello-und-floetenkonzert-im-siena
 /
URL:https://1902stiftung.de/events/cello-und-floetenkonzert-im-siena/
END:VEVENT
END:VCALENDAR